BEGIN:VCALENDAR
VERSION:2.0
CALSCALE:GREGORIAN
PRODID:-//Diputació de Barcelona//DibaCMS//EN
BEGIN:VEVENT
UID:8559
DTSTAMP:20260423T070724
DTSTART:20230121T190000
DTEND:20230121T190000
SUMMARY:Concert de Pau Figueres (guitarrista)
LOCATION:Carrer Torregassa, 35-37 08480 L'Ametlla del Vallès
METHOD:PUBLISH
X-WR-CALNAME:ametlla@ametlla.cat
X-WR-TIMEZONE:Europe/Madrid
DESCRIPTION:
URI:https://www.ametlla.cat/actualitat/agenda/concert-de-pau-figueres-guitarrista.html
CLASS:PUBLIC
END:VEVENT
END:VCALENDAR
