BEGIN:VCALENDAR
VERSION:2.0
CALSCALE:GREGORIAN
PRODID:-//Diputació de Barcelona//DibaCMS//EN
BEGIN:VEVENT
UID:8504
DTSTAMP:20260425T235000
DTSTART:20221220T000000
DTEND:20221220T000000
SUMMARY:Xerrada “Psicologia positiva”, a càrrec de Victor Küppers
LOCATION:Restaurant Temporada de l'Ametlla del Vallès (C. Gralla 46) 
METHOD:PUBLISH
X-WR-CALNAME:ametlla@ametlla.cat
X-WR-TIMEZONE:Europe/Madrid
DESCRIPTION:
URI:https://www.ametlla.cat/actualitat/agenda/xerrada-psicologia-positiva-a-carrec-de-victor-kuppers.html
CLASS:PUBLIC
END:VEVENT
END:VCALENDAR
