BEGIN:VCALENDAR
VERSION:2.0
CALSCALE:GREGORIAN
PRODID:-//Diputació de Barcelona//DibaCMS//EN
BEGIN:VEVENT
UID:6020
DTSTAMP:20260419T155133
DTSTART:20200316T000000
DTEND:20210316T000000
SUMMARY:La caminada de les masies i la Puiggraciós XRACE s'ajornen fins a nova data
LOCATION:
METHOD:PUBLISH
X-WR-CALNAME:ametlla@ametlla.cat
X-WR-TIMEZONE:Europe/Madrid
DESCRIPTION:Atesa l'actual crisi sanitària i per un principi de prudència, la caminada "Les masies" inclosa en el Cicle de Caminades de l'Ametlla i que s'havia de celebrar el proper 29 de març, s'ajorna fins a nova data.

La mateixa mesura s'aplica a la  cursa de muntanya Puiggraciós XRACE, organitzada per 480RUN i prevista pel 26 d'abril.

URI:https://www.ametlla.cat/actualitat/noticies/la-caminada-de-les-masies-i-la-puiggracios-xrace-sajornen-fins-a-nova-data.html
CLASS:PUBLIC
END:VEVENT
END:VCALENDAR
