BEGIN:VCALENDAR
VERSION:2.0
CALSCALE:GREGORIAN
PRODID:-//Diputació de Barcelona//DibaCMS//EN
BEGIN:VEVENT
UID:5957
DTSTAMP:20260426T045908
DTSTART:20200302T000000
DTEND:20210302T000000
SUMMARY:Nou Mercat Boig el 8 de març
LOCATION:
METHOD:PUBLISH
X-WR-CALNAME:ametlla@ametlla.cat
X-WR-TIMEZONE:Europe/Madrid
DESCRIPTION:El proper diumenge 8 de març tindrà lloc una nova edició del Mercat Boig, el mercat de venda de productes de segona mà de l’Ametlla del Vallès que es farà al parc de Maria Lluïsa, de les 10 a les 14h.

URI:https://www.ametlla.cat/actualitat/noticies/nou-mercat-boig-el-8-de-marc.html
CLASS:PUBLIC
END:VEVENT
END:VCALENDAR
