BEGIN:VCALENDAR
VERSION:2.0
CALSCALE:GREGORIAN
PRODID:-//Diputació de Barcelona//DibaCMS//EN
BEGIN:VEVENT
UID:5219
DTSTAMP:20260425T152453
DTSTART:20190726T000000
DTEND:20200725T000000
SUMMARY:Obertes les inscripcions a les Activitats Esportives i de Lleure per a gent gran 2019-2020
LOCATION:
METHOD:PUBLISH
X-WR-CALNAME:ametlla@ametlla.cat
X-WR-TIMEZONE:Europe/Madrid
DESCRIPTION:El servei d'Esports de l'Ajuntament de l'Ametlla del Vallès organitza, un any més activitats esportives i de lleure per a gent gran (majors de 65 anys).

URI:https://www.ametlla.cat/actualitat/noticies/obertes-les-inscripcions-a-les-activitats-esportives-i-de-lleure-per-a-gent-gran-2019-2020.html
CLASS:PUBLIC
END:VEVENT
END:VCALENDAR
