BEGIN:VCALENDAR
VERSION:2.0
CALSCALE:GREGORIAN
PRODID:-//Diputació de Barcelona//DibaCMS//EN
BEGIN:VEVENT
UID:4881
DTSTAMP:20260421T030309
DTSTART:20190430T000000
DTEND:20200429T000000
SUMMARY:Xerrada del fotògraf Emili Vilamala
LOCATION:
METHOD:PUBLISH
X-WR-CALNAME:ametlla@ametlla.cat
X-WR-TIMEZONE:Europe/Madrid
DESCRIPTION:El divendres 3 de maig el prestigiós fotògraf Emili Vilamala (National Geographic) pronunciarà una xerrada sobre fotografia convidat per l’Associació Fotogràfica de l’Ametlla (AFA).

URI:https://www.ametlla.cat/actualitat/noticies/xerrada-del-fotograf-emili-vilamala.html
CLASS:PUBLIC
END:VEVENT
END:VCALENDAR
