BEGIN:VCALENDAR
VERSION:2.0
CALSCALE:GREGORIAN
PRODID:-//Diputació de Barcelona//DibaCMS//EN
BEGIN:VEVENT
UID:4827
DTSTAMP:20260425T201641
DTSTART:20190423T163000
DTEND:20190423T190000
SUMMARY:Diada de Sant Jordi: “El jardí de les lletres” 
LOCATION:Carrer Torregassa 08480 L'Ametlla del Vallès
METHOD:PUBLISH
X-WR-CALNAME:ametlla@ametlla.cat
X-WR-TIMEZONE:Europe/Madrid
DESCRIPTION:ORG. Biblioteca i àrea de Cultura.

URI:https://www.ametlla.cat/actualitat/agenda/diada-de-sant-jordi-el-jardi-de-les-lletres-.html
CLASS:PUBLIC
END:VEVENT
END:VCALENDAR
