BEGIN:VCALENDAR
VERSION:2.0
CALSCALE:GREGORIAN
PRODID:-//Diputació de Barcelona//DibaCMS//EN
BEGIN:VEVENT
UID:4676
DTSTAMP:20260424T234524
DTSTART:20190306T130000
DTEND:20200305T000000
SUMMARY:Les proves psicotècniques de la Policia Local es faran a la Sala Polivalent
LOCATION:
METHOD:PUBLISH
X-WR-CALNAME:ametlla@ametlla.cat
X-WR-TIMEZONE:Europe/Madrid
DESCRIPTION:Us informem que les proves psicotècniques de la Policia Local previstes per avui dimecres 6 de març finalment es faran a la Sala Polivalent de la Biblioteca Municipal Josep Badia i Moret (C. Sebastià Bassa 10).

URI:https://www.ametlla.cat/actualitat/noticies/les-proves-psicotecniques-de-la-policia-local-es-faran-a-la-sala-polivalent.html
CLASS:PUBLIC
END:VEVENT
END:VCALENDAR
