BEGIN:VCALENDAR
VERSION:2.0
CALSCALE:GREGORIAN
PRODID:-//Diputació de Barcelona//DibaCMS//EN
BEGIN:VEVENT
UID:4675
DTSTAMP:20260425T132640
DTSTART:20190320T193000
DTEND:20190320T213000
SUMMARY:IV Cicle de Joves Intèrprets
LOCATION:Sala Gran de Can Draper 
METHOD:PUBLISH
X-WR-CALNAME:ametlla@ametlla.cat
X-WR-TIMEZONE:Europe/Madrid
DESCRIPTION:Kambrass (quintent de vent metall). Entrada lliure amb invitació. Recollida a l’Escola de Música i a la Biblioteca.

Aforament limitat.

ORG.: àrea de Cultura i EMM

URI:https://www.ametlla.cat/actualitat/agenda/iv-cicle-de-joves-interprets.html
CLASS:PUBLIC
END:VEVENT
END:VCALENDAR
