BEGIN:VCALENDAR
VERSION:2.0
CALSCALE:GREGORIAN
PRODID:-//Diputació de Barcelona//DibaCMS//EN
BEGIN:VEVENT
UID:4449
DTSTAMP:20260424T100821
DTSTART:20190123T000000
DTEND:20200123T000000
SUMMARY:3 de febrer, Diada de Sant Antoni Abat i Sant Sebastià
LOCATION:
METHOD:PUBLISH
X-WR-CALNAME:ametlla@ametlla.cat
X-WR-TIMEZONE:Europe/Madrid
DESCRIPTION:La Diada de Sant Antoni Abat i Sant Sebastià, ajornada per la pluja, es festejarà el proper diumenge 3 de febrer. A les 11 del matí la plaça de l'Ajuntament s'omplirà d'animals de companyia per rebre la tradicional benedicció de la celebració. L'activitat anirà acompanyada d'un espectacle de cavalls i, tot seguit, una cercavila pel centre del poble. No hi faltaran els carquinyolis amb vi dolç que caracteritzen aquesta festa que, durant molts anys, va mantenir viva la Germandat de Sant Sebastià. 

URI:https://www.ametlla.cat/actualitat/noticies/3-de-febrer-diada-de-sant-antoni-abat-i-sant-sebastia.html
CLASS:PUBLIC
END:VEVENT
END:VCALENDAR
