BEGIN:VCALENDAR
VERSION:2.0
CALSCALE:GREGORIAN
PRODID:-//Diputació de Barcelona//DibaCMS//EN
BEGIN:VEVENT
UID:4422
DTSTAMP:20260424T113531
DTSTART:20190114T000000
DTEND:20200114T000000
SUMMARY:Diada de Sant Antoni Abat i Sant Sebastià, el 20 de gener
LOCATION:
METHOD:PUBLISH
X-WR-CALNAME:ametlla@ametlla.cat
X-WR-TIMEZONE:Europe/Madrid
DESCRIPTION:Passades les festes nadalenques, la propera celebració que tindrem a l’Ametlla del Vallès és la Diada de Sant Antoni Abat i Sant Sebastià el diumenge 20 de gener, una festa que durant molts anys va mantenir viva la Germandat de Sant Sebastià i que, un cop dissolta, és l’Ajuntament el que s’encarrega de la seva organització.

URI:https://www.ametlla.cat/actualitat/noticies/diada-de-sant-antoni-abat-i-sant-sebastia-el-20-de-gener.html
CLASS:PUBLIC
END:VEVENT
END:VCALENDAR
