BEGIN:VCALENDAR
VERSION:2.0
CALSCALE:GREGORIAN
PRODID:-//Diputació de Barcelona//DibaCMS//EN
BEGIN:VEVENT
UID:16504
DTSTAMP:20260423T152541
DTSTART:20260423T000000
DTEND:20270423T000000
SUMMARY:Ordre del dia del ple ordinari de dilluns 27 d'abril
LOCATION:
METHOD:PUBLISH
X-WR-CALNAME:ametlla@ametlla.cat
X-WR-TIMEZONE:Europe/Madrid
DESCRIPTION:Dilluns dia 27 tindrà lloc el ple ordinari corresponent al mes de d'abril de 2026. La sessió se celebrarà a les 19 h a la Sala Polivalent, i es podrà seguir en directe pel canal Youtube de l'Ajuntament.

URI:https://www.ametlla.cat/actualitat/noticies/ordre-del-dia-del-ple-ordinari-de-dilluns-27-dabril.html
CLASS:PUBLIC
END:VEVENT
END:VCALENDAR
