BEGIN:VCALENDAR
VERSION:2.0
CALSCALE:GREGORIAN
PRODID:-//Diputació de Barcelona//DibaCMS//EN
BEGIN:VEVENT
UID:16502
DTSTAMP:20260422T151637
DTSTART:20260422T000000
DTEND:20270422T000000
SUMMARY:L'Ajuntament se suma a la commemoració del Dia de la Visibilitat Lèsbica
LOCATION:
METHOD:PUBLISH
X-WR-CALNAME:ametlla@ametlla.cat
X-WR-TIMEZONE:Europe/Madrid
DESCRIPTION:Aquest diumenge 26 d’abril se celebra el Dia de la Visibilitat Lèsbica, una jornada de reivindicació i de reconeixement a totes aquelles dones lesbianes que, al llarg de la història, van haver d’amagar la seva identitat i viure vides que no havien escollit. 

URI:https://www.ametlla.cat/actualitat/noticies/lajuntament-se-suma-a-la-commemoracio-del-dia-de-la-visibilitat-lesbica.html
CLASS:PUBLIC
END:VEVENT
END:VCALENDAR
