BEGIN:VCALENDAR
VERSION:2.0
CALSCALE:GREGORIAN
PRODID:-//Diputació de Barcelona//DibaCMS//EN
BEGIN:VEVENT
UID:16498
DTSTAMP:20260420T170528
DTSTART:20260420T000000
DTEND:20270420T000000
SUMMARY:L’Ametlla celebra el Dia de la Dansa aquest diumenge
LOCATION:
METHOD:PUBLISH
X-WR-CALNAME:ametlla@ametlla.cat
X-WR-TIMEZONE:Europe/Madrid
DESCRIPTION:Aquest diumenge, 26 d’abril, l’Ametlla del Vallès commemorarà el Dia de la Dansa amb una mostra de diferents estils oberta a tota la ciutadania.

URI:https://www.ametlla.cat/actualitat/noticies/lametlla-celebra-el-dia-de-la-dansa-aquest-diumenge.html
CLASS:PUBLIC
END:VEVENT
END:VCALENDAR
