BEGIN:VCALENDAR
VERSION:2.0
CALSCALE:GREGORIAN
PRODID:-//Diputació de Barcelona//DibaCMS//EN
BEGIN:VEVENT
UID:16496
DTSTAMP:20260420T145803
DTSTART:20260420T000000
DTEND:20270420T000000
SUMMARY:Nova edició del Mercat Boig, el dia 10 de maig
LOCATION:
METHOD:PUBLISH
X-WR-CALNAME:ametlla@ametlla.cat
X-WR-TIMEZONE:Europe/Madrid
DESCRIPTION:El diumenge 10 de maig torna el Mercat Boig de l’Ametlla del Vallès, un dels mercats de venda i d’intercanvi de productes de segona mà, encara amb vida útil, i també de serveis, referents de la comarca.

URI:https://www.ametlla.cat/actualitat/noticies/nova-edicio-del-mercat-boig-el-dia-10-de-maig.html
CLASS:PUBLIC
END:VEVENT
END:VCALENDAR
