BEGIN:VCALENDAR
VERSION:2.0
CALSCALE:GREGORIAN
PRODID:-//Diputació de Barcelona//DibaCMS//EN
BEGIN:VEVENT
UID:16481
DTSTAMP:20260421T125732
DTSTART:20260428T190000
DTEND:20260428T190000
SUMMARY:Cicle de Joves Intèrprets: duo de vibràfon i saxo
LOCATION:
METHOD:PUBLISH
X-WR-CALNAME:ametlla@ametlla.cat
X-WR-TIMEZONE:Europe/Madrid
DESCRIPTION:Andreu Bayarri (vibràfon) i Rodrigo Hernández (saxo).

URI:https://www.ametlla.cat/actualitat/agenda/cicle-de-joves-interprets-duo-de-vibrafon-i-saxo.html
CLASS:PUBLIC
END:VEVENT
END:VCALENDAR
