BEGIN:VCALENDAR
VERSION:2.0
CALSCALE:GREGORIAN
PRODID:-//Diputació de Barcelona//DibaCMS//EN
BEGIN:VEVENT
UID:16480
DTSTAMP:20260421T113608
DTSTART:20260428T170000
DTEND:20260428T170000
SUMMARY:Educaprimavera: xerrada “Acompanyament en l’educació sexual”
LOCATION:Camí de Bigues, 40-42 08480 L'Ametlla del Vallès
METHOD:PUBLISH
X-WR-CALNAME:ametlla@ametlla.cat
X-WR-TIMEZONE:Europe/Madrid
DESCRIPTION:A càrrec D’EP Institut | Per a famílies amb infants de 12 a 14 anys.

URI:https://www.ametlla.cat/actualitat/agenda/educaprimavera-xerrada-acompanyament-en-leducacio-sexual.html
CLASS:PUBLIC
END:VEVENT
END:VCALENDAR
