BEGIN:VCALENDAR
VERSION:2.0
CALSCALE:GREGORIAN
PRODID:-//Diputació de Barcelona//DibaCMS//EN
BEGIN:VEVENT
UID:16413
DTSTAMP:20260421T115653
DTSTART:20260306T180000
DTEND:20260306T180000
SUMMARY:Tertúlies Literàries. "Pluja d’estels" de Laia Aguilar
LOCATION:Carrer Torregassa, 35-37 08480 L'Ametlla del Vallès
METHOD:PUBLISH
X-WR-CALNAME:ametlla@ametlla.cat
X-WR-TIMEZONE:Europe/Madrid
DESCRIPTION:
URI:https://www.ametlla.cat/actualitat/agenda/tertulies-literaries-pluja-destels-de-laia-aguilar.html
CLASS:PUBLIC
END:VEVENT
END:VCALENDAR
