BEGIN:VCALENDAR
VERSION:2.0
CALSCALE:GREGORIAN
PRODID:-//Diputació de Barcelona//DibaCMS//EN
BEGIN:VEVENT
UID:16404
DTSTAMP:20260421T161141
DTSTART:20260306T000000
DTEND:20270306T000000
SUMMARY:L’ametllatana Sira Mogas rep el Premi Dones Inspiradores 2026 d’El 9 Nou
LOCATION:
METHOD:PUBLISH
X-WR-CALNAME:ametlla@ametlla.cat
X-WR-TIMEZONE:Europe/Madrid
DESCRIPTION:L’Ajuntament de l’Ametlla del Vallès va assistir dimecres a l’acte d’entrega del Premi Dones Inspiradores 2026, organitzat pel diari EL 9 NOU a Granollers, en què es va reconèixer la trajectòria de diverses dones que, amb la seva feina, contribueixen a transformar la societat en àmbits molt diversos.

URI:https://www.ametlla.cat/actualitat/noticies/lametllatana-sira-mogas-rep-el-premi-dones-inspiradores-2026-del-9-nou.html
CLASS:PUBLIC
END:VEVENT
END:VCALENDAR
