BEGIN:VCALENDAR
VERSION:2.0
CALSCALE:GREGORIAN
PRODID:-//Diputació de Barcelona//DibaCMS//EN
BEGIN:VEVENT
UID:16402
DTSTAMP:20260421T161121
DTSTART:20260304T000000
DTEND:20270304T000000
SUMMARY:Diari de l'Ametlla de març
LOCATION:
METHOD:PUBLISH
X-WR-CALNAME:ametlla@ametlla.cat
X-WR-TIMEZONE:Europe/Madrid
DESCRIPTION:Ja està disponible, per ser consultat, el Diari de l'Ametlla número 245, corresponent al mes de març de 2026. En aquesta edició, el butlletí inclou el suplement cultural "Amíndola" a les seves pàgines centrals.

URI:https://www.ametlla.cat/actualitat/noticies/16402-diari-de-lametlla-de-marc.html
CLASS:PUBLIC
END:VEVENT
END:VCALENDAR
