BEGIN:VCALENDAR
VERSION:2.0
CALSCALE:GREGORIAN
PRODID:-//Diputació de Barcelona//DibaCMS//EN
BEGIN:VEVENT
UID:16400
DTSTAMP:20260421T160824
DTSTART:20260303T000000
DTEND:20270303T000000
SUMMARY:Actuacions contra furts i incivisme
LOCATION:
METHOD:PUBLISH
X-WR-CALNAME:ametlla@ametlla.cat
X-WR-TIMEZONE:Europe/Madrid
DESCRIPTION:La Policia Local de l’Ametlla del Vallès ha dut a terme, durant les darreres setmanes, diverses actuacions que han permès prevenir i frustrar furts en establiments comercials del municipi, així com intervenir en casos d’incivisme i infraccions a la via pública.

URI:https://www.ametlla.cat/actualitat/noticies/actuacions-contra-furts-i-incivisme.html
CLASS:PUBLIC
END:VEVENT
END:VCALENDAR
