BEGIN:VCALENDAR
VERSION:2.0
CALSCALE:GREGORIAN
PRODID:-//Diputació de Barcelona//DibaCMS//EN
BEGIN:VEVENT
UID:16392
DTSTAMP:20260421T101934
DTSTART:20260313T190000
DTEND:20260313T190000
SUMMARY:Inauguració de l’exposició "Antologia de somnis"
LOCATION:Torregassa, 8 08480 L'Ametlla del Vallès
METHOD:PUBLISH
X-WR-CALNAME:ametlla@ametlla.cat
X-WR-TIMEZONE:Europe/Madrid
DESCRIPTION:De Lluís Benet Vidal

URI:https://www.ametlla.cat/actualitat/agenda/inauguracio-de-lexposicio-antologia-de-somnis.html
CLASS:PUBLIC
END:VEVENT
END:VCALENDAR
