BEGIN:VCALENDAR
VERSION:2.0
CALSCALE:GREGORIAN
PRODID:-//Diputació de Barcelona//DibaCMS//EN
BEGIN:VEVENT
UID:16388
DTSTAMP:20260421T131305
DTSTART:20260308T180000
DTEND:20260308T180000
SUMMARY:8 M | Documental: Les roques
LOCATION:Torregassa, 23 08480 L'Ametlla del Vallès
METHOD:PUBLISH
X-WR-CALNAME:ametlla@ametlla.cat
X-WR-TIMEZONE:Europe/Madrid
DESCRIPTION:Col·lectiu EL BROGIT. Centre d’Estudis de Castellbell i el Vilar

URI:https://www.ametlla.cat/actualitat/agenda/8-m--documental-les-roques.html
CLASS:PUBLIC
END:VEVENT
END:VCALENDAR
