BEGIN:VCALENDAR
VERSION:2.0
CALSCALE:GREGORIAN
PRODID:-//Diputació de Barcelona//DibaCMS//EN
BEGIN:VEVENT
UID:16386
DTSTAMP:20260421T130413
DTSTART:20260308T090000
DTEND:20260308T090000
SUMMARY:8M | 4a Caminada de la Dona
LOCATION:Plaça de l'Ajuntament, 1 08480 L'Ametlla del Vallès
METHOD:PUBLISH
X-WR-CALNAME:ametlla@ametlla.cat
X-WR-TIMEZONE:Europe/Madrid
DESCRIPTION:12 km; recorregut fàcil i apte per a tothom; càrrec de l’Associació Excursionista de l’Ametlla

Inscripcions: aeametlla.cat

Recollida de credencials a les 08.30 h

URI:https://www.ametlla.cat/actualitat/agenda/8m--4a-caminada-de-la-dona.html
CLASS:PUBLIC
END:VEVENT
END:VCALENDAR
