BEGIN:VCALENDAR
VERSION:2.0
CALSCALE:GREGORIAN
PRODID:-//Diputació de Barcelona//DibaCMS//EN
BEGIN:VEVENT
UID:16296
DTSTAMP:20260426T014634
DTSTART:20260127T170000
DTEND:20260127T170000
SUMMARY:Taller d’escriptura i formació de lectors
LOCATION:Carrer Torregassa, 35-37 08480 L'Ametlla del Vallès
METHOD:PUBLISH
X-WR-CALNAME:ametlla@ametlla.cat
X-WR-TIMEZONE:Europe/Madrid
DESCRIPTION:Trobada amb Teresa Rabal. Coordinat per Lola Tresserras

URI:https://www.ametlla.cat/actualitat/agenda/16296-taller-descriptura-i-formacio-de-lectors.html
CLASS:PUBLIC
END:VEVENT
END:VCALENDAR
