BEGIN:VCALENDAR
VERSION:2.0
CALSCALE:GREGORIAN
PRODID:-//Diputació de Barcelona//DibaCMS//EN
BEGIN:VEVENT
UID:16290
DTSTAMP:20260426T015039
DTSTART:20260124T110000
DTEND:20260124T110000
SUMMARY:Hora menuda: Pedra, pedreta
LOCATION:Carrer Torregassa, 35-37 08480 L'Ametlla del Vallès
METHOD:PUBLISH
X-WR-CALNAME:ametlla@ametlla.cat
X-WR-TIMEZONE:Europe/Madrid
DESCRIPTION:A càrrec de Marta Esmarats.

URI:https://www.ametlla.cat/actualitat/agenda/hora-menuda-pedra-pedreta.html
CLASS:PUBLIC
END:VEVENT
END:VCALENDAR
