BEGIN:VCALENDAR
VERSION:2.0
CALSCALE:GREGORIAN
PRODID:-//Diputació de Barcelona//DibaCMS//EN
BEGIN:VEVENT
UID:16288
DTSTAMP:20260426T014456
DTSTART:20260120T190000
DTEND:20260120T190000
SUMMARY:Sessió participativa del POUM: zona centre
LOCATION:Torregassa, 23 08480 L'Ametlla del Vallès
METHOD:PUBLISH
X-WR-CALNAME:ametlla@ametlla.cat
X-WR-TIMEZONE:Europe/Madrid
DESCRIPTION:Santa Creu, Sant Genís, les Roquetes, centre del poble, C.C. Sant Jordi, Can Draper i Pinar de Rosanes.

URI:https://www.ametlla.cat/actualitat/agenda/sessio-participativa-del-poum-zona-centre.html
CLASS:PUBLIC
END:VEVENT
END:VCALENDAR
