BEGIN:VCALENDAR
VERSION:2.0
CALSCALE:GREGORIAN
PRODID:-//Diputació de Barcelona//DibaCMS//EN
BEGIN:VEVENT
UID:14595
DTSTAMP:20260419T145129
DTSTART:20231017T000000
DTEND:20241016T000000
SUMMARY:Habitatges de protecció oficial de Can Draper: com hem arribat fins aquí
LOCATION:
METHOD:PUBLISH
X-WR-CALNAME:ametlla@ametlla.cat
X-WR-TIMEZONE:Europe/Madrid
DESCRIPTION:Amb el pas dels anys, l’Ametlla el Vallès ha passat de ser un poble amb pocs habitants, eminentment agrícola amb masies disseminades i un petit nucli urbà entorn la parròquia, a esdevenir un municipi de gairebé deu mil habitants amb unes característiques de ciutat jardí residencial, amb un centre poc densificat i amb el predomini d’un tipus d’habitatge basat en cases amb jardí.

URI:https://www.ametlla.cat/actualitat/noticies/habitatges-de-proteccio-oficial-de-can-draper-com-hem-arribat-fins-aqui.html
CLASS:PUBLIC
END:VEVENT
END:VCALENDAR
