BEGIN:VCALENDAR
VERSION:2.0
CALSCALE:GREGORIAN
PRODID:-//Diputació de Barcelona//DibaCMS//EN
BEGIN:VEVENT
UID:14570
DTSTAMP:20260421T101924
DTSTART:20231009T190000
DTEND:20231009T203000
SUMMARY:[Òrgans col·legiats] Consell del consens
LOCATION:Plaça de l' Ajuntament, 1 08480 L'Ametlla del Vallès
METHOD:PUBLISH
X-WR-CALNAME:ametlla@ametlla.cat
X-WR-TIMEZONE:Europe/Madrid
DESCRIPTION:
URI:https://www.ametlla.cat/1-ajuntament/ajuntament/consistori/agenda-politica/organs-collegiats-consell-del-consens.html
CLASS:PUBLIC
END:VEVENT
END:VCALENDAR
