BEGIN:VCALENDAR
VERSION:2.0
CALSCALE:GREGORIAN
PRODID:-//Diputació de Barcelona//DibaCMS//EN
BEGIN:VEVENT
UID:14396
DTSTAMP:20260421T223942
DTSTART:20230705T000000
DTEND:20240704T000000
SUMMARY:Ordre del dia del ple extraordinari de 7 de juliol
LOCATION:
METHOD:PUBLISH
X-WR-CALNAME:ametlla@ametlla.cat
X-WR-TIMEZONE:Europe/Madrid
DESCRIPTION:Divendres 7 de juliol se celebrà un Ple extraordinari a les 8.30 h a la Sala Polivalent, el qual es podrà seguir en directe a través del canal Youtube de l'Ajuntament, i que consta d'aquests dos punts:

URI:https://www.ametlla.cat/actualitat/noticies/ordre-del-dia-del-ple-extraordinari-de-7-de-juliol.html
CLASS:PUBLIC
END:VEVENT
END:VCALENDAR
